BEGIN:VCALENDAR
VERSION:2.0
PRODID:-//Friends of Lords Park Zoo - ECPv6.15.20//NONSGML v1.0//EN
CALSCALE:GREGORIAN
METHOD:PUBLISH
X-WR-CALNAME:Friends of Lords Park Zoo
X-ORIGINAL-URL:https://flpz.org
X-WR-CALDESC:Events for Friends of Lords Park Zoo
REFRESH-INTERVAL;VALUE=DURATION:PT1H
X-Robots-Tag:noindex
X-PUBLISHED-TTL:PT1H
BEGIN:VTIMEZONE
TZID:America/Chicago
BEGIN:DAYLIGHT
TZOFFSETFROM:-0600
TZOFFSETTO:-0500
TZNAME:CDT
DTSTART:20250309T080000
END:DAYLIGHT
BEGIN:STANDARD
TZOFFSETFROM:-0500
TZOFFSETTO:-0600
TZNAME:CST
DTSTART:20251102T070000
END:STANDARD
BEGIN:DAYLIGHT
TZOFFSETFROM:-0600
TZOFFSETTO:-0500
TZNAME:CDT
DTSTART:20260308T080000
END:DAYLIGHT
BEGIN:STANDARD
TZOFFSETFROM:-0500
TZOFFSETTO:-0600
TZNAME:CST
DTSTART:20261101T070000
END:STANDARD
BEGIN:DAYLIGHT
TZOFFSETFROM:-0600
TZOFFSETTO:-0500
TZNAME:CDT
DTSTART:20270314T080000
END:DAYLIGHT
BEGIN:STANDARD
TZOFFSETFROM:-0500
TZOFFSETTO:-0600
TZNAME:CST
DTSTART:20271107T070000
END:STANDARD
END:VTIMEZONE
BEGIN:VEVENT
DTSTART;VALUE=DATE:20260619
DTEND;VALUE=DATE:20260626
DTSTAMP:20260421T221155
CREATED:20260310T180615Z
LAST-MODIFIED:20260310T180707Z
UID:928-1781827200-1782431999@flpz.org
SUMMARY:Poster Display of Noteworthy Black Elginites
DESCRIPTION:Special thanks to the Elgin Historical Society for their extensive research and historical contributions to this display. ALL AGES.
URL:https://flpz.org/event/poster-display-of-noteworthy-black-elginites/
END:VEVENT
BEGIN:VEVENT
DTSTART;TZID=America/Chicago:20260622T120000
DTEND;TZID=America/Chicago:20260622T130000
DTSTAMP:20260421T221155
CREATED:20260224T012214Z
LAST-MODIFIED:20260224T012237Z
UID:824-1782129600-1782133200@flpz.org
SUMMARY:Art for Children — Side Street Studio Arts
DESCRIPTION:Bring your children to enjoy and participate in making art inspired by the animals and plants in Tefft Farm. AGES 4-7 YRS.
URL:https://flpz.org/event/art-for-children-side-street-studio-arts/
END:VEVENT
END:VCALENDAR