BEGIN:VCALENDAR
VERSION:2.0
PRODID:-//Friends of Lords Park Zoo - ECPv6.15.20//NONSGML v1.0//EN
CALSCALE:GREGORIAN
METHOD:PUBLISH
X-WR-CALNAME:Friends of Lords Park Zoo
X-ORIGINAL-URL:https://flpz.org
X-WR-CALDESC:Events for Friends of Lords Park Zoo
REFRESH-INTERVAL;VALUE=DURATION:PT1H
X-Robots-Tag:noindex
X-PUBLISHED-TTL:PT1H
BEGIN:VTIMEZONE
TZID:America/Chicago
BEGIN:DAYLIGHT
TZOFFSETFROM:-0600
TZOFFSETTO:-0500
TZNAME:CDT
DTSTART:20250309T080000
END:DAYLIGHT
BEGIN:STANDARD
TZOFFSETFROM:-0500
TZOFFSETTO:-0600
TZNAME:CST
DTSTART:20251102T070000
END:STANDARD
BEGIN:DAYLIGHT
TZOFFSETFROM:-0600
TZOFFSETTO:-0500
TZNAME:CDT
DTSTART:20260308T080000
END:DAYLIGHT
BEGIN:STANDARD
TZOFFSETFROM:-0500
TZOFFSETTO:-0600
TZNAME:CST
DTSTART:20261101T070000
END:STANDARD
BEGIN:DAYLIGHT
TZOFFSETFROM:-0600
TZOFFSETTO:-0500
TZNAME:CDT
DTSTART:20270314T080000
END:DAYLIGHT
BEGIN:STANDARD
TZOFFSETFROM:-0500
TZOFFSETTO:-0600
TZNAME:CST
DTSTART:20271107T070000
END:STANDARD
END:VTIMEZONE
BEGIN:VEVENT
DTSTART;TZID=America/Chicago:20260630T110000
DTEND;TZID=America/Chicago:20260630T123000
DTSTAMP:20260421T222147
CREATED:20260224T014059Z
LAST-MODIFIED:20260224T014059Z
UID:873-1782817200-1782822600@flpz.org
SUMMARY:Mythical Mishaps! — Adventures In The Zoo
DESCRIPTION:Learn about real animals that inspired un-real ones\, like the unicorn\, griffin\, dragon. \nA drop-in program with a different science/nature guest. ALL AGES.
URL:https://flpz.org/event/mythical-mishaps-adventures-in-the-zoo/
END:VEVENT
END:VCALENDAR