BEGIN:VCALENDAR
VERSION:2.0
PRODID:-//Friends of Lords Park Zoo - ECPv6.15.20//NONSGML v1.0//EN
CALSCALE:GREGORIAN
METHOD:PUBLISH
X-WR-CALNAME:Friends of Lords Park Zoo
X-ORIGINAL-URL:https://flpz.org
X-WR-CALDESC:Events for Friends of Lords Park Zoo
REFRESH-INTERVAL;VALUE=DURATION:PT1H
X-Robots-Tag:noindex
X-PUBLISHED-TTL:PT1H
BEGIN:VTIMEZONE
TZID:America/Chicago
BEGIN:DAYLIGHT
TZOFFSETFROM:-0600
TZOFFSETTO:-0500
TZNAME:CDT
DTSTART:20250309T080000
END:DAYLIGHT
BEGIN:STANDARD
TZOFFSETFROM:-0500
TZOFFSETTO:-0600
TZNAME:CST
DTSTART:20251102T070000
END:STANDARD
BEGIN:DAYLIGHT
TZOFFSETFROM:-0600
TZOFFSETTO:-0500
TZNAME:CDT
DTSTART:20260308T080000
END:DAYLIGHT
BEGIN:STANDARD
TZOFFSETFROM:-0500
TZOFFSETTO:-0600
TZNAME:CST
DTSTART:20261101T070000
END:STANDARD
BEGIN:DAYLIGHT
TZOFFSETFROM:-0600
TZOFFSETTO:-0500
TZNAME:CDT
DTSTART:20270314T080000
END:DAYLIGHT
BEGIN:STANDARD
TZOFFSETFROM:-0500
TZOFFSETTO:-0600
TZNAME:CST
DTSTART:20271107T070000
END:STANDARD
END:VTIMEZONE
BEGIN:VEVENT
DTSTART;TZID=America/Chicago:20260605T130000
DTEND;TZID=America/Chicago:20260605T150000
DTSTAMP:20260422T222640
CREATED:20260224T012653Z
LAST-MODIFIED:20260224T012653Z
UID:834-1780664400-1780671600@flpz.org
SUMMARY:Children's Old Fashioned Fun and Games — Elgin Historical Society
DESCRIPTION:Join the Elgin Historical Society’s staff and volunteers as they lead families in old fashioned lawn games. Children can make a toy to bring home. AGES 3-8 YRS.
URL:https://flpz.org/event/childrens-old-fashioned-fun-and-games-elgin-historical-society/
END:VEVENT
BEGIN:VEVENT
DTSTART;TZID=America/Chicago:20260605T113000
DTEND;TZID=America/Chicago:20260605T123000
DTSTAMP:20260422T222640
CREATED:20260224T013137Z
LAST-MODIFIED:20260310T180200Z
UID:843-1780659000-1780662600@flpz.org
SUMMARY:Chipmunks — Nature In Your Neighborhood With Miss Judy
DESCRIPTION:AGES 3-7. Program made possible by a generous grant from the Bethlehem Evangelical Church.
URL:https://flpz.org/event/chipmunks-nature-in-your-neighborhood-with-miss-judy/
END:VEVENT
BEGIN:VEVENT
DTSTART;TZID=America/Chicago:20260602T110000
DTEND;TZID=America/Chicago:20260602T123000
DTSTAMP:20260422T222640
CREATED:20260224T013856Z
LAST-MODIFIED:20260224T013856Z
UID:867-1780398000-1780403400@flpz.org
SUMMARY:Underwater Archaeology (Shipwrecks) — Adventures In The Zoo
DESCRIPTION:A drop-in program with a different science/nature guest. ALL AGES.
URL:https://flpz.org/event/underwater-archaeology-shipwrecks-adventures-in-the-zoo/
END:VEVENT
BEGIN:VEVENT
DTSTART;TZID=America/Chicago:20260530T123000
DTEND;TZID=America/Chicago:20260530T133000
DTSTAMP:20260422T222640
CREATED:20260224T013514Z
LAST-MODIFIED:20260224T013514Z
UID:854-1780144200-1780147800@flpz.org
SUMMARY:JG’s Reptile Road Show — Uncaged In The Zoo
DESCRIPTION:Get up close and personal with live animals! ALL AGES.  \nPrograms made possible by a generous grant from the Bethlehem Evangelical Church.
URL:https://flpz.org/event/jgs-reptile-road-show-uncaged-in-the-zoo/
END:VEVENT
BEGIN:VEVENT
DTSTART;TZID=America/Chicago:20260530T120000
DTEND;TZID=America/Chicago:20260530T160000
DTSTAMP:20260422T222640
CREATED:20260224T010734Z
LAST-MODIFIED:20260224T010829Z
UID:808-1780142400-1780156800@flpz.org
SUMMARY:OPENING DAY!
DESCRIPTION:Join us to celebrate the beginning of the 2026 season!
URL:https://flpz.org/event/opening-day-2/
END:VEVENT
END:VCALENDAR