BEGIN:VCALENDAR
VERSION:2.0
PRODID:-//Friends of Lords Park Zoo - ECPv6.15.20//NONSGML v1.0//EN
CALSCALE:GREGORIAN
METHOD:PUBLISH
X-ORIGINAL-URL:https://flpz.org
X-WR-CALDESC:Events for Friends of Lords Park Zoo
REFRESH-INTERVAL;VALUE=DURATION:PT1H
X-Robots-Tag:noindex
X-PUBLISHED-TTL:PT1H
BEGIN:VTIMEZONE
TZID:America/Chicago
BEGIN:DAYLIGHT
TZOFFSETFROM:-0600
TZOFFSETTO:-0500
TZNAME:CDT
DTSTART:20250309T080000
END:DAYLIGHT
BEGIN:STANDARD
TZOFFSETFROM:-0500
TZOFFSETTO:-0600
TZNAME:CST
DTSTART:20251102T070000
END:STANDARD
BEGIN:DAYLIGHT
TZOFFSETFROM:-0600
TZOFFSETTO:-0500
TZNAME:CDT
DTSTART:20260308T080000
END:DAYLIGHT
BEGIN:STANDARD
TZOFFSETFROM:-0500
TZOFFSETTO:-0600
TZNAME:CST
DTSTART:20261101T070000
END:STANDARD
BEGIN:DAYLIGHT
TZOFFSETFROM:-0600
TZOFFSETTO:-0500
TZNAME:CDT
DTSTART:20270314T080000
END:DAYLIGHT
BEGIN:STANDARD
TZOFFSETFROM:-0500
TZOFFSETTO:-0600
TZNAME:CST
DTSTART:20271107T070000
END:STANDARD
END:VTIMEZONE
BEGIN:VEVENT
DTSTART;TZID=America/Chicago:20260703T113000
DTEND;TZID=America/Chicago:20260703T123000
DTSTAMP:20260422T003949
CREATED:20260224T013248Z
LAST-MODIFIED:20260224T014627Z
UID:848-1783078200-1783081800@flpz.org
SUMMARY:Frogs — Nature In Your Neighborhood With Miss Judy
DESCRIPTION:AGES 3-7. Program made possible by a generous grant from the Bethlehem Evangelical Church.
URL:https://flpz.org/event/frogs-nature-in-your-neighborhood-with-miss-judy/
END:VEVENT
BEGIN:VEVENT
DTSTART;TZID=America/Chicago:20260708T130000
DTEND;TZID=America/Chicago:20260708T150000
DTSTAMP:20260422T003949
CREATED:20260224T012804Z
LAST-MODIFIED:20260224T012804Z
UID:837-1783515600-1783522800@flpz.org
SUMMARY:You BUTTER Believe It: Elgin's Dairy History — Elgin Historical Society
DESCRIPTION:Visit the Tefft Farm inside Lords Park to learn about Elgin’s dairy history and try your hand at butter making. AGES 3-8 YRS.
URL:https://flpz.org/event/you-butter-believe-it-elgins-dairy-history-elgin-historical-society/
END:VEVENT
BEGIN:VEVENT
DTSTART;TZID=America/Chicago:20260709T110000
DTEND;TZID=America/Chicago:20260709T120000
DTSTAMP:20260422T003949
CREATED:20260224T011826Z
LAST-MODIFIED:20260310T181737Z
UID:814-1783594800-1783598400@flpz.org
SUMMARY:Stories Under the Hickory Tree — Presented by GAIL BORDEN PUBLIC LIBRARY
DESCRIPTION:Bring your blankets\, chairs\, children & grandchildren to experience the energetic GBPL staff as they present animated musical and participatory animal themed programs which engage and educate all viewers (AGES 3-6 YRS).
URL:https://flpz.org/event/stories-under-the-hickory-tree-gail-borden-public-library-2/
END:VEVENT
BEGIN:VEVENT
DTSTART;TZID=America/Chicago:20260711T123000
DTEND;TZID=America/Chicago:20260711T133000
DTSTAMP:20260422T003949
CREATED:20260310T181345Z
LAST-MODIFIED:20260310T181345Z
UID:932-1783773000-1783776600@flpz.org
SUMMARY:Wings and Talons — Uncaged In The Zoo
DESCRIPTION:Get up close and personal with live animals! ALL AGES.  \nPrograms made possible by a generous grant from the Bethlehem Evangelical Church.
URL:https://flpz.org/event/wings-and-talons-uncaged-in-the-zoo/
END:VEVENT
BEGIN:VEVENT
DTSTART;TZID=America/Chicago:20260712T140000
DTEND;TZID=America/Chicago:20260712T151500
DTSTAMP:20260422T003949
CREATED:20260224T012450Z
LAST-MODIFIED:20260224T012450Z
UID:832-1783864800-1783869300@flpz.org
SUMMARY:Felipe Mendoza Band — Mariachi Concert
DESCRIPTION:ALL AGES.
URL:https://flpz.org/event/felipe-mendoza-band-mariachi-concert/
END:VEVENT
BEGIN:VEVENT
DTSTART;TZID=America/Chicago:20260713T120000
DTEND;TZID=America/Chicago:20260713T130000
DTSTAMP:20260422T003949
CREATED:20260224T012023Z
LAST-MODIFIED:20260224T012023Z
UID:820-1783944000-1783947600@flpz.org
SUMMARY:Chamber Music on the Fox
DESCRIPTION:MUSIC ACTS TBD. Bring chairs\, blankets and lunch to enjoy these outstanding classical outdoor concerts under the bucolic shade of Tefft Farm’s trees. All ages welcome!
URL:https://flpz.org/event/chamber-music-on-the-fox-3/
END:VEVENT
BEGIN:VEVENT
DTSTART;TZID=America/Chicago:20260714T110000
DTEND;TZID=America/Chicago:20260714T123000
DTSTAMP:20260422T003949
CREATED:20260224T014135Z
LAST-MODIFIED:20260224T014135Z
UID:876-1784026800-1784032200@flpz.org
SUMMARY:Teeth Tell All! — Adventures In The Zoo
DESCRIPTION:A drop-in program with a different science/nature guest. ALL AGES.
URL:https://flpz.org/event/teeth-tell-all-adventures-in-the-zoo/
END:VEVENT
BEGIN:VEVENT
DTSTART;TZID=America/Chicago:20260717T113000
DTEND;TZID=America/Chicago:20260717T123000
DTSTAMP:20260422T003949
CREATED:20260224T013311Z
LAST-MODIFIED:20260224T013311Z
UID:850-1784287800-1784291400@flpz.org
SUMMARY:Bugs — Nature In Your Neighborhood With Miss Judy
DESCRIPTION:AGES 3-7. Program made possible by a generous grant from the Bethlehem Evangelical Church.
URL:https://flpz.org/event/bugs-nature-in-your-neighborhood-with-miss-judy/
END:VEVENT
BEGIN:VEVENT
DTSTART;TZID=America/Chicago:20260720T120000
DTEND;TZID=America/Chicago:20260720T130000
DTSTAMP:20260422T003949
CREATED:20260224T012249Z
LAST-MODIFIED:20260224T012249Z
UID:827-1784548800-1784552400@flpz.org
SUMMARY:Art for Children — Side Street Studio Arts
DESCRIPTION:Bring your children to enjoy and participate in making art inspired by the animals and plants in Tefft Farm. AGES 4-7 YRS.
URL:https://flpz.org/event/art-for-children-side-street-studio-arts-2/
END:VEVENT
BEGIN:VEVENT
DTSTART;TZID=America/Chicago:20260721T110000
DTEND;TZID=America/Chicago:20260721T123000
DTSTAMP:20260422T003949
CREATED:20260224T014211Z
LAST-MODIFIED:20260224T014211Z
UID:878-1784631600-1784637000@flpz.org
SUMMARY:When Illinois Was an Ocean — Adventures In The Zoo
DESCRIPTION:A drop-in program with a different science/nature guest. ALL AGES.
URL:https://flpz.org/event/when-illinois-was-an-ocean-adventures-in-the-zoo/
END:VEVENT
BEGIN:VEVENT
DTSTART;TZID=America/Chicago:20260725T123000
DTEND;TZID=America/Chicago:20260725T133000
DTSTAMP:20260422T003949
CREATED:20260310T182139Z
LAST-MODIFIED:20260310T182139Z
UID:935-1784982600-1784986200@flpz.org
SUMMARY:Deb the Frog Lady — Uncaged In The Zoo
DESCRIPTION:Get up close and personal with live animals! ALL AGES.  \nPrograms made possible by a generous grant from the Bethlehem Evangelical Church.
URL:https://flpz.org/event/deb-the-frog-lady-uncaged-in-the-zoo/
END:VEVENT
BEGIN:VEVENT
DTSTART;TZID=America/Chicago:20260728T110000
DTEND;TZID=America/Chicago:20260728T123000
DTSTAMP:20260422T003949
CREATED:20260224T014253Z
LAST-MODIFIED:20260224T014253Z
UID:881-1785236400-1785241800@flpz.org
SUMMARY:All About Pigs — Adventures In The Zoo
DESCRIPTION:A drop-in program with a different science/nature guest. ALL AGES.
URL:https://flpz.org/event/all-about-pigs-adventures-in-the-zoo/
END:VEVENT
BEGIN:VEVENT
DTSTART;TZID=America/Chicago:20260731T113000
DTEND;TZID=America/Chicago:20260731T123000
DTSTAMP:20260422T003949
CREATED:20260224T013336Z
LAST-MODIFIED:20260224T013336Z
UID:852-1785497400-1785501000@flpz.org
SUMMARY:Coyotes — Nature In Your Neighborhood With Miss Judy
DESCRIPTION:AGES 3-7. Program made possible by a generous grant from the Bethlehem Evangelical Church.
URL:https://flpz.org/event/coyotes-nature-in-your-neighborhood-with-miss-judy/
END:VEVENT
END:VCALENDAR